Workbook

Sheet DAuxiliar
B2: Feriado | C2: Data
B3: ANO NOVO | C3: 45658
B4: LUTA ARMADA | C4: 45692
B5: CARNAVAL | C5: 45701
B6: MULHER | C6: 45724
B7: SEXTA FEIRA SANTA | C7: 45381
B8: PÁSCOA | C8: 45383
B9: PAZ | C9: 45386
B10: SEXTA FEIRA SANTA | C10: 45746
B11: PÁSCOA | C11: 45748
B12: PAZ | C12: 45751
B13: TRABALHADOR | C13: 45778
B14: HEROI NACIONAL | C14: 45917
... B181: NATAL | C181: 51495

Sheet Folha1
A1: DATA DOC/ | B1: ASSUNTO | C1: Dif. DATA DOC vs RECPÇÂO | D1: DATA / RECPÇÃO | E1: TEMPO DO DOC NA DIRECÇÃO | F1: DATA DO DESPACHO | G1: DEPARTAMENTO | H1: DATA LIMITE DE RESPOSTA | I1: TEMPO NO DEPARTAMENTO | J1: DATA CONCLUSÃO | K1: CLASSIFICAÇÃO | L1: Cumprimento | M1: OBS:
A2: 45659 | B2: ACTIVOS NÃO OPERACIONAIS PA OBELISCO E LUONGO | C2: =IF(A2="",0,IF(D2="",NETWORKDAYS.INTL(A2,TODAY(),1,DAuxiliar!$C$3:$C$181), NETWORKDAYS.INTL(A2,D2,1,DAuxiliar!$C$3:$C$181))) -> 4 | D2: 45664 | E2: =IF(D2="",0, IF(F2="",NETWORKDAYS.INTL(D2,TODAY(),1,DAuxiliar!$C$3:$C$181), NETWORKDAYS.INTL(D2,F2,1,DAuxiliar!$C$3:$C$181))) -> 70 | F2: 45765 | G2: DCG | H2: =IF(D2="","", WORKDAY.INTL(D2,10,1,DAuxiliar!$C$3:$C$181)) -> 45678 | I2: =IF(F2="",0, IF(J2="", NETWORKDAYS.INTL(F2,TODAY(),1,DAuxiliar!$C$3:$C$181), NETWORKDAYS.INTL(F2,J2,1,DAuxiliar!$C$3:$C$181))) -> 124 | J2: 45940 | K2: =IF(A2="","", IF(J2="","Por Concluir","Concluído")) -> Concluído | L2: =IF(AND(I2>10,J2<>"",K2="Concluído"),"Concluído", IF(AND(I2<10,J2=""),"Dentro do Prazo","Fora do Prazo")) -> Concluído
A3: 45660 | B3: ACTIVOS NÃO OPERACIONAIS PA OBELISCO E LUONGO | C3: =IF(A3="",0,IF(D3="",NETWORKDAYS.INTL(A3,TODAY(),1,DAuxiliar!$C$3:$C$181), NETWORKDAYS.INTL(A3,D3,1,DAuxiliar!$C$3:$C$181))) -> 45 | D3: 45726 | E3: =IF(D3="",0, IF(F3="",NETWORKDAYS.INTL(D3,TODAY(),1,DAuxiliar!$C$3:$C$181), NETWORKDAYS.INTL(D3,F3,1,DAuxiliar!$C$3:$C$181))) -> 47 | F3: 45794 | G3: DCG | H3: =IF(D3="","", WORKDAY.INTL(D3,10,1,DAuxiliar!$C$3:$C$181)) -> 45740 | I3: =IF(F3="",0, IF(J3="", NETWORKDAYS.INTL(F3,TODAY(),1,DAuxiliar!$C$3:$C$181), NETWORKDAYS.INTL(F3,J3,1,DAuxiliar!$C$3:$C$181))) -> 119 | K3: =IF(A3="","", IF(J3="","Por Concluir","Concluído")) -> Por Concluir | L3: =IF(AND(I3>10,J3<>"",K3="Concluído"),"Concluído", IF(AND(I3<10,J3=""),"Dentro do Prazo","Fora do Prazo")) -> Fora do Prazo
A4: 45665 | B4: ACTIVOS NÃO OPERACIONAIS PA OBELISCO E LUONGO | C4: =IF(A4="",0,IF(D4="",NETWORKDAYS.INTL(A4,TODAY(),1,DAuxiliar!$C$3:$C$181), NETWORKDAYS.INTL(A4,D4,1,DAuxiliar!$C$3:$C$181))) -> 144 | D4: 45873 | E4: =IF(D4="",0, IF(F4="",NETWORKDAYS.INTL(D4,TODAY(),1,DAuxiliar!$C$3:$C$181), NETWORKDAYS.INTL(D4,F4,1,DAuxiliar!$C$3:$C$181))) -> 64 | H4: =IF(D4="","", WORKDAY.INTL(D4,10,1,DAuxiliar!$C$3:$C$181)) -> 45887 | I4: =IF(F4="",0, IF(J4="", NETWORKDAYS.INTL(F4,TODAY(),1,DAuxiliar!$C$3:$C$181), NETWORKDAYS.INTL(F4,J4,1,DAuxiliar!$C$3:$C$181))) -> 0 | K4: =IF(A4="","", IF(J4="","Por Concluir","Concluído")) -> Por Concluir | L4: =IF(AND(I4>10,J4<>"",K4="Concluído"),"Concluído", IF(AND(I4<10,J4=""),"Dentro do Prazo","Fora do Prazo")) -> Dentro do Prazo
C5: =IF(A5="",0,IF(D5="",NETWORKDAYS.INTL(A5,TODAY(),1,DAuxiliar!$C$3:$C$181), NETWORKDAYS.INTL(A5,D5,1,DAuxiliar!$C$3:$C$181))) -> 0 | E5: =IF(D5="",0, IF(F5="",NETWORKDAYS.INTL(D5,TODAY(),1,DAuxiliar!$C$3:$C$181), NETWORKDAYS.INTL(D5,F5,1,DAuxiliar!$C$3:$C$181))) -> 0 | H5: =IF(D5="","", WORKDAY.INTL(D5,10,1,DAuxiliar!$C$3:$C$181)) | I5: É possivel incluir aqui alguma condição que pare a contagem quando o documento se encontra concluido? | K5: =IF(A5="","", IF(J5="","Por Concluir","Concluído")) | L5: eu não consigo colocar aqui uma condição para atender a 3 situações: 1. se (I) for maior que 10, mas tem data de conclusao e tem o status "concluido" ser considerado Concluido; 2.se (I) for menor que 10 e data de conclusao estiver vazia, considerar dentro do praso; 3. se tiver acima de 10 dias e nao tiver data de conclusao, considerar fora de prazo
C6: =IF(A6="",0,IF(D6="",NETWORKDAYS.INTL(A6,TODAY(),1,DAuxiliar!$C$3:$C$181), NETWORKDAYS.INTL(A6,D6,1,DAuxiliar!$C$3:$C$181))) -> 0 | E6: =IF(D6="",0, IF(F6="",NETWORKDAYS.INTL(D6,TODAY(),1,DAuxiliar!$C$3:$C$181), NETWORKDAYS.INTL(D6,F6,1,DAuxiliar!$C$3:$C$181))) -> 0 | H6: =IF(D6="","", WORKDAY.INTL(D6,10,1,DAuxiliar!$C$3:$C$181)) | K6: Ou é melhor colocar nessa coluna todas as condiçoes?
C7: =IF(A7="",0,IF(D7="",NETWORKDAYS.INTL(A7,TODAY(),1,DAuxiliar!$C$3:$C$181), NETWORKDAYS.INTL(A7,D7,1,DAuxiliar!$C$3:$C$181))) -> 0 | E7: =IF(D7="",0, IF(F7="",NETWORKDAYS.INTL(D7,TODAY(),1,DAuxiliar!$C$3:$C$181), NETWORKDAYS.INTL(D7,F7,1,DAuxiliar!$C$3:$C$181))) -> 0 | H7: é importante saber quanto tempo o departamento leva para concluir um tema
C8: =IF(A8="",0,IF(D8="",NETWORKDAYS.INTL(A8,TODAY(),1,DAuxiliar!$C$3:$C$181), NETWORKDAYS.INTL(A8,D8,1,DAuxiliar!$C$3:$C$181))) -> 0 | E8: =IF(D8="",0, IF(F8="",NETWORKDAYS.INTL(D8,TODAY(),1,DAuxiliar!$C$3:$C$181), NETWORKDAYS.INTL(D8,F8,1,DAuxiliar!$C$3:$C$181))) -> 0
C9: =IF(A9="",0,IF(D9="",NETWORKDAYS.INTL(A9,TODAY(),1,DAuxiliar!$C$3:$C$181), NETWORKDAYS.INTL(A9,D9,1,DAuxiliar!$C$3:$C$181))) -> 0 | E9: =IF(D9="",0, IF(F9="",NETWORKDAYS.INTL(D9,TODAY(),1,DAuxiliar!$C$3:$C$181), NETWORKDAYS.INTL(D9,F9,1,DAuxiliar!$C$3:$C$181))) -> 0
C10: =IF(A10="",0,IF(D10="",NETWORKDAYS.INTL(A10,TODAY(),1,DAuxiliar!$C$3:$C$181), NETWORKDAYS.INTL(A10,D10,1,DAuxiliar!$C$3:$C$181))) -> 0 | E10: =IF(D10="",0, IF(F10="",NETWORKDAYS.INTL(D10,TODAY(),1,DAuxiliar!$C$3:$C$181), NETWORKDAYS.INTL(D10,F10,1,DAuxiliar!$C$3:$C$181))) -> 0
C11: =IF(A11="",0,IF(D11="",NETWORKDAYS.INTL(A11,TODAY(),1,DAuxiliar!$C$3:$C$181), NETWORKDAYS.INTL(A11,D11,1,DAuxiliar!$C$3:$C$181))) -> 0 | E11: =IF(D11="",0, IF(F11="",NETWORKDAYS.INTL(D11,TODAY(),1,DAuxiliar!$C$3:$C$181), NETWORKDAYS.INTL(D11,F11,1,DAuxiliar!$C$3:$C$181))) -> 0
C12: =IF(A12="",0,IF(D12="",NETWORKDAYS.INTL(A12,TODAY(),1,DAuxiliar!$C$3:$C$181), NETWORKDAYS.INTL(A12,D12,1,DAuxiliar!$C$3:$C$181))) -> 0 | E12: =IF(D12="",0, IF(F12="",NETWORKDAYS.INTL(D12,TODAY(),1,DAuxiliar!$C$3:$C$181), NETWORKDAYS.INTL(D12,F12,1,DAuxiliar!$C$3:$C$181))) -> 0
C13: =IF(A13="",0,IF(D13="",NETWORKDAYS.INTL(A13,TODAY(),1,DAuxiliar!$C$3:$C$181), NETWORKDAYS.INTL(A13,D13,1,DAuxiliar!$C$3:$C$181))) -> 0 | E13: =IF(D13="",0, IF(F13="",NETWORKDAYS.INTL(D13,TODAY(),1,DAuxiliar!$C$3:$C$181), NETWORKDAYS.INTL(D13,F13,1,DAuxiliar!$C$3:$C$181))) -> 0
C14: =IF(A14="",0,IF(D14="",NETWORKDAYS.INTL(A14,TODAY(),1,DAuxiliar!$C$3:$C$181), NETWORKDAYS.INTL(A14,D14,1,DAuxiliar!$C$3:$C$181))) -> 0 | E14: =IF(D14="",0, IF(F14="",NETWORKDAYS.INTL(D14,TODAY(),1,DAuxiliar!$C$3:$C$181), NETWORKDAYS.INTL(D14,F14,1,DAuxiliar!$C$3:$C$181))) -> 0
